BEGIN:VCALENDAR
VERSION:2.0
PRODID:-//eventon.com NONSGML v1.0//EN
CALSCALE:GREGORIAN
METHOD:PUBLISH
BEGIN:VEVENT
UID:69e7371c35406
DTSTAMP:20260421T083644Z
DTSTART:20220323
DTEND:20220324
LOCATION:Leiden
SUMMARY:Kroegentocht
DESCRIPTION:Woensdag 18 januari 2023\nhttps://www.deleidsejazzweek.nl/event
 s/jazz-de-twee-spieghels/
URL:https://www.deleidsejazzweek.nl/events/jazz-de-twee-spieghels/
END:VEVENT
END:VCALENDAR