BEGIN:VCALENDAR
VERSION:2.0
PRODID:-//eventon.com NONSGML v1.0//EN
CALSCALE:GREGORIAN
METHOD:PUBLISH
BEGIN:VEVENT
UID:69ecb33d0091d
DTSTAMP:20260425T122741Z
DTSTART:20230118T193000Z
DTEND:20230118T225000Z
LOCATION:De Bonte Koe Hooglandsekerk Choorsteeg 13\,  2312 KK\,  Leiden
SUMMARY:Wouter Kiers
DESCRIPTION:\nhttps://www.deleidsejazzweek.nl/events/wouter-kiers/
URL:https://www.deleidsejazzweek.nl/events/wouter-kiers/
END:VEVENT
END:VCALENDAR