BEGIN:VCALENDAR
VERSION:2.0
PRODID:-//eventon.com NONSGML v1.0//EN
CALSCALE:GREGORIAN
METHOD:PUBLISH
BEGIN:VEVENT
UID:69e737a1c0c18
DTSTAMP:20260421T083857Z
DTSTART:20230116T200000Z
DTEND:20230116T225000Z
LOCATION:Jazz- en Wijncafé De Twee Spieghels Nieuwstraat 11\,  2312 KA\,  Leiden
SUMMARY:Jamsessie olv Pascal Janssen
DESCRIPTION:Pascal Janssen &#8211; trumpetJazzton Hulsebosch &#8211; alto s
 axophoneSungtaek Choo &#8211; pianoLorenzo Servali &#8211; bassTijn Koenen 
 &#8211; drums\nhttps://www.deleidsejazzweek.nl/events/jamsessie-olv-pascal-
 janssen/
URL:https://www.deleidsejazzweek.nl/events/jamsessie-olv-pascal-janssen/
END:VEVENT
END:VCALENDAR