BEGIN:VCALENDAR
VERSION:2.0
PRODID:-//eventon.com NONSGML v1.0//EN
CALSCALE:GREGORIAN
METHOD:PUBLISH
BEGIN:VEVENT
UID:69ec1ee78c0eb
DTSTAMP:20260425T015447Z
DTSTART:20230116T193000Z
DTEND:20230116T225000Z
LOCATION:De Uyl van Hoogland Nieuwstraat 28\,  2312 KC\,  Leiden
SUMMARY:Toine
DESCRIPTION:Website Toine\nhttps://www.deleidsejazzweek.nl/events/toine/
URL:https://www.deleidsejazzweek.nl/events/toine/
END:VEVENT
END:VCALENDAR