BEGIN:VCALENDAR
VERSION:2.0
PRODID:-//eventon.com NONSGML v1.0//EN
CALSCALE:GREGORIAN
METHOD:PUBLISH
BEGIN:VEVENT
UID:69e4d0c5dbf76
DTSTAMP:20260419T125533Z
DTSTART:20230118T193000Z
DTEND:20230118T225000Z
LOCATION:L’Esperance Kaiserstraat 1\,  2311 GN\,  Leiden
SUMMARY:Blue Friends
DESCRIPTION:\nhttps://www.deleidsejazzweek.nl/events/blue-friends/
URL:https://www.deleidsejazzweek.nl/events/blue-friends/
END:VEVENT
END:VCALENDAR