BEGIN:VCALENDAR
VERSION:2.0
PRODID:-//eventon.com NONSGML v1.0//EN
CALSCALE:GREGORIAN
METHOD:PUBLISH
BEGIN:VEVENT
UID:69e7370c2dbd1
DTSTAMP:20260421T083628Z
DTSTART:20230119T200000Z
DTEND:20230119T225000Z
LOCATION:Meneer Jansen Nieuwe Rijn 21\,  2312 JC\,  Leiden
SUMMARY:Tim Eijmaal and friends
DESCRIPTION:\nhttps://www.deleidsejazzweek.nl/events/bandnaam-volgt-band-to
 -be-announced-8/
URL:https://www.deleidsejazzweek.nl/events/bandnaam-volgt-band-to-be-announced-8/
END:VEVENT
END:VCALENDAR