BEGIN:VCALENDAR
VERSION:2.0
PRODID:-//eventon.com NONSGML v1.0//EN
CALSCALE:GREGORIAN
METHOD:PUBLISH
BEGIN:VEVENT
UID:69e54d437230e
DTSTAMP:20260419T214643Z
DTSTART:20230121T200000Z
DTEND:20230121T225000Z
LOCATION:Meneer Jansen Nieuwe Rijn 21\,  2312 JC\,  Leiden
SUMMARY:Robbert Fossen band
DESCRIPTION:\nhttps://www.deleidsejazzweek.nl/events/bandnaam-volgt-band-to
 -be-announced-10/
URL:https://www.deleidsejazzweek.nl/events/bandnaam-volgt-band-to-be-announced-10/
END:VEVENT
END:VCALENDAR