BEGIN:VCALENDAR
VERSION:2.0
PRODID:-//eventon.com NONSGML v1.0//EN
CALSCALE:GREGORIAN
METHOD:PUBLISH
BEGIN:VEVENT
UID:69e7370b15687
DTSTAMP:20260421T083627Z
DTSTART:20240118T183000Z
DTEND:20240118T225000Z
LOCATION:Nobel Marktsteeg 4-8\,  2312 CS\,  Leiden
SUMMARY:DISCOVER: DRAGONFRUIT & LEONARD LUKA
DESCRIPTION:Discover is dé intieme showcase-avond in De Stad van Ontdekkin
 gen. Hier ontdek je iedere maand de nieuwste indie en alternative talenten 
 en de headliners van morgen. Laat je deze editie meenemen op de funky hard-
 hitting beats van Dragonfruit en geniet van de soulvolle stem en eclectisch
 e melodieën van Leonard Luka.&nbsp;[..]\nhttps://www.deleidsejazzweek.nl/e
 vents/discover-dragonfruit-leonard-luka/
URL:https://www.deleidsejazzweek.nl/events/discover-dragonfruit-leonard-luka/
END:VEVENT
END:VCALENDAR