BEGIN:VCALENDAR
VERSION:2.0
PRODID:-//eventon.com NONSGML v1.0//EN
CALSCALE:GREGORIAN
METHOD:PUBLISH
BEGIN:VEVENT
UID:69e749daac9cb
DTSTAMP:20260421T095642Z
DTSTART:20240118T190000Z
DTEND:20240118T225000Z
LOCATION:Lemmy’s Bier &amp; Whiskeycafé Morsstraat 24\,  2312 BM\,  Leiden
SUMMARY:Fat Wallet
DESCRIPTION:Fat Wallet is a swingtrio from Haarlem\,  the Netherlands. The 
 repertoire consists mainly of vintage jazzsongs written and performed by gr
 eats like Fats Waller\,  Louis Prima\,  Leon Redbone and The Mills Brothers
 \,  to name just a few.  Fat Wallet appeared on many festivals\,  parti
 es\,  retro dance events\,  in bars\,  pubs\,  clubs\, [..]\nhttps://www.de
 leidsejazzweek.nl/events/fat-wallet-2/
URL:https://www.deleidsejazzweek.nl/events/fat-wallet-2/
END:VEVENT
END:VCALENDAR