BEGIN:VCALENDAR
VERSION:2.0
PRODID:-//eventon.com NONSGML v1.0//EN
CALSCALE:GREGORIAN
METHOD:PUBLISH
BEGIN:VEVENT
UID:69e9d4a97c626
DTSTAMP:20260423T081329Z
DTSTART:20240121T120000Z
DTEND:20240121T225000Z
LOCATION:Wielinga Nieuwe Rijn 28\,  2311 JD\,  Leiden
SUMMARY:Jazz ‘n Lunch met Chris Koenen
DESCRIPTION:Chris Koenen &#8211; zang/gitaar\,  Aad Pijlen &#8211; zang/bas
 \,  Tijn Koenen &#8211; drums Jazz-N-Lunch&nbsp; Zoals iedere jaar doen wij
  mee met de “Leidse Blues &amp; Jazzweek”. Geniet deze muzikale middag
  van een 4-gangenmenu en optreden met: Trio Chris Koenen op gitaar\,  begel
 eid door drums &amp; Fender P Bass MENU Zacht gegaarde winterkabeljauw[..]\
 nhttps://www.deleidsejazzweek.nl/events/jazz-n-lunch-met-chris-koenen/
URL:https://www.deleidsejazzweek.nl/events/jazz-n-lunch-met-chris-koenen/
END:VEVENT
END:VCALENDAR