BEGIN:VCALENDAR
VERSION:2.0
PRODID:-//eventon.com NONSGML v1.0//EN
CALSCALE:GREGORIAN
METHOD:PUBLISH
BEGIN:VEVENT
UID:69ebf23b728dc
DTSTAMP:20260424T224411Z
DTSTART:20240118T193000Z
DTEND:20240118T225000Z
LOCATION:Café Plantage De Plantage Hogewoerd 168 Leiden Zuid-Holland 2311 HW NL
SUMMARY:Wouter Kiers trio
DESCRIPTION:\nhttps://www.deleidsejazzweek.nl/events/wouter-kiers-band/
URL:https://www.deleidsejazzweek.nl/events/wouter-kiers-band/
END:VEVENT
END:VCALENDAR