BEGIN:VCALENDAR
VERSION:2.0
PRODID:-//eventon.com NONSGML v1.0//EN
CALSCALE:GREGORIAN
METHOD:PUBLISH
BEGIN:VEVENT
UID:69e5027e9391a
DTSTAMP:20260419T162742Z
DTSTART:20240117T193000Z
DTEND:20240117T225000Z
LOCATION:Estaminet Schommelen Lokhorststraat 19\,  2311 TA\,  Leiden
SUMMARY:Susanne de Rooij en Ewald Ebing
DESCRIPTION:Home\nhttps://www.deleidsejazzweek.nl/events/ewald-ebing/
URL:https://www.deleidsejazzweek.nl/events/ewald-ebing/
END:VEVENT
END:VCALENDAR