BEGIN:VCALENDAR
VERSION:2.0
PRODID:-//eventon.com NONSGML v1.0//EN
CALSCALE:GREGORIAN
METHOD:PUBLISH
BEGIN:VEVENT
UID:69eb45ebc26f7
DTSTAMP:20260424T102859Z
DTSTART:20240117T193000Z
DTEND:20240117T225000Z
LOCATION:Jazz- en Wijncafé De Twee Spieghels Nieuwstraat 11\,  2312 KA\,  Leiden
SUMMARY:Stan van de Wetering quartet
DESCRIPTION:Timothy Banchet &#8211; PianoPhil Ambuel &#8211; BasAdam Ray &#
 8211; DrumsStan van de Wetering &#8211; Tenor sax\nhttps://www.deleidsejazz
 week.nl/events/stan-van-de-wetering-quartet/
URL:https://www.deleidsejazzweek.nl/events/stan-van-de-wetering-quartet/
END:VEVENT
END:VCALENDAR