BEGIN:VCALENDAR
VERSION:2.0
PRODID:-//eventon.com NONSGML v1.0//EN
CALSCALE:GREGORIAN
METHOD:PUBLISH
BEGIN:VEVENT
UID:69e74a6b8cb74
DTSTAMP:20260421T095907Z
DTSTART:20240120T150000Z
DTEND:20240120T225000Z
LOCATION:Jazz- en Wijncafé De Twee Spieghels Nieuwstraat 11\,  2312 KA\,  Leiden
SUMMARY:Robin Koerts
DESCRIPTION:Bass Guitar\,  Funk\,  Video\,  Sooperlooper\,  Jazz\,  Edit\, 
  Whiplash\,  Miles Davis\,  Slapping\,  Filter\,  Frank Sinatra\,  Overdub\
 ,  Fingerstyle\,  Grooves\,  Trigger\,  Screen\,  Wah Wah and Music.\nhttps
 ://www.deleidsejazzweek.nl/events/robin-koerts-de-leidse-blues-en-jazzweek/
URL:https://www.deleidsejazzweek.nl/events/robin-koerts-de-leidse-blues-en-jazzweek/
END:VEVENT
END:VCALENDAR