BEGIN:VCALENDAR
VERSION:2.0
PRODID:-//eventon.com NONSGML v1.0//EN
CALSCALE:GREGORIAN
METHOD:PUBLISH
BEGIN:VEVENT
UID:69ec2a5f85e06
DTSTAMP:20260425T024343Z
DTSTART:20240115T193000Z
DTEND:20240115T225000Z
LOCATION:Jantje van Leiden Hartesteeg 2\,  2312 JX Leiden
SUMMARY:Enrico organ trio
DESCRIPTION:Enrico Le Noci\,  Bob Wijnen en Eric Ineke vormen een dynamisch
  jazz-orgeltrio dat zowel in Nederland als daarbuiten de aandacht trekt. En
 rico Le Noci\,  een jonge gitarist en componist\,  brengt frisse energie in
  de groep met zijn veelzijdige spel en sterke persoonlijke identiteit. Zijn
  debuutalbum\,  Social Music\,  heeft verschillende prijzen[..]\nhttps://ww
 w.deleidsejazzweek.nl/events/enrico-organ-trio/
URL:https://www.deleidsejazzweek.nl/events/enrico-organ-trio/
END:VEVENT
END:VCALENDAR