BEGIN:VCALENDAR
VERSION:2.0
PRODID:-//eventon.com NONSGML v1.0//EN
CALSCALE:GREGORIAN
METHOD:PUBLISH
BEGIN:VEVENT
UID:69eb2763a5bbf
DTSTAMP:20260424T081843Z
DTSTART:20250120T200000Z
DTEND:20250120T220000Z
LOCATION:Grand Café de Burcht Burgsteeg 14\,  2312 JS\,  Leiden
SUMMARY:Mozes Rosenberg X Anton Goudsmit
DESCRIPTION:\nhttps://www.deleidsejazzweek.nl/events/mozes-rosenberg-x-anto
 n-goudsmit/
URL:https://www.deleidsejazzweek.nl/events/mozes-rosenberg-x-anton-goudsmit/
END:VEVENT
END:VCALENDAR