BEGIN:VCALENDAR
VERSION:2.0
PRODID:-//eventon.com NONSGML v1.0//EN
CALSCALE:GREGORIAN
METHOD:PUBLISH
BEGIN:VEVENT
UID:69e9e88a19649
DTSTAMP:20260423T093818Z
DTSTART:20250125T200000Z
DTEND:20250125T220000Z
LOCATION:Grand Café de Burcht Burgsteeg 14\,  2312 JS\,  Leiden
SUMMARY:Liquid Sun Orchestra
DESCRIPTION:\nhttps://www.deleidsejazzweek.nl/events/liquid-sun-orchestra/
URL:https://www.deleidsejazzweek.nl/events/liquid-sun-orchestra/
END:VEVENT
END:VCALENDAR