BEGIN:VCALENDAR
VERSION:2.0
PRODID:-//eventon.com NONSGML v1.0//EN
CALSCALE:GREGORIAN
METHOD:PUBLISH
BEGIN:VEVENT
UID:69e9d51610c5d
DTSTAMP:20260423T081518Z
DTSTART:20250123T200000Z
DTEND:20250122T230000Z
LOCATION:Jazz- en Wijncafé De Twee Spieghels Nieuwstraat 11\,  2312 KA\,  Leiden
SUMMARY:FLIM
DESCRIPTION:A crew brought together by the drive to create a collective-sou
 nd that is soaked in various influences ranging from the improvised sounds 
 of the 50s to now\,  from Adorno to neo-liberalism\,  from India to Venezue
 la\,  via Hungary and Indonesia/NL. We are from 4 different parts of the gl
 obe\,  sharing a[..]\nhttps://www.deleidsejazzweek.nl/events/abhinav-khokha
 r-quartet/
URL:https://www.deleidsejazzweek.nl/events/abhinav-khokhar-quartet/
END:VEVENT
END:VCALENDAR