BEGIN:VCALENDAR
VERSION:2.0
PRODID:-//eventon.com NONSGML v1.0//EN
CALSCALE:GREGORIAN
METHOD:PUBLISH
BEGIN:VEVENT
UID:69e74a9c4ec04
DTSTAMP:20260421T095956Z
DTSTART:20250122T190000Z
DTEND:20250122T220000Z
LOCATION:Meneer Jansen Nieuwe Rijn 21\,  2312 JC\,  Leiden
SUMMARY:Tim Eijmaal
DESCRIPTION:\nhttps://www.deleidsejazzweek.nl/events/tim-eijmaal/
URL:https://www.deleidsejazzweek.nl/events/tim-eijmaal/
END:VEVENT
END:VCALENDAR