BEGIN:VCALENDAR
VERSION:2.0
PRODID:-//eventon.com NONSGML v1.0//EN
CALSCALE:GREGORIAN
METHOD:PUBLISH
BEGIN:VEVENT
UID:69e919663a018
DTSTAMP:20260422T185430Z
DTSTART:20250123T190000Z
DTEND:20250123T220000Z
LOCATION:Lemmy’s Bier &amp; Whiskeycafé Morsstraat 24\,  2312 BM\,  Leiden
SUMMARY:The Busquitos
DESCRIPTION:The Busquitos spelen een aanstekelijke mix van virtuoze swingen
 de met Louis Armstrong-rasp gezongen muziek en wervelend\,  vrolijk enterta
 inment! Als het even kan mengen zij zich draadloos in het publiek en brenge
 n een muzikale serenade\,  laten het publiek een limbo-\,  stoelen- of line
 -dans doen\,  of spelen een meezinger uit hun aanstekelijk[..]\nhttps://www
 .deleidsejazzweek.nl/events/the-busquitos-2/
URL:https://www.deleidsejazzweek.nl/events/the-busquitos-2/
END:VEVENT
END:VCALENDAR