BEGIN:VCALENDAR
VERSION:2.0
PRODID:-//eventon.com NONSGML v1.0//EN
CALSCALE:GREGORIAN
METHOD:PUBLISH
BEGIN:VEVENT
UID:69e7371c34785
DTSTAMP:20260421T083644Z
DTSTART:20250122T200000Z
DTEND:20250122T220000Z
LOCATION:Lokaliteit de Apotheek Nieuwe Rijn 18\,  2312 JC\,  Leiden
SUMMARY:Boogaloo
DESCRIPTION:\nhttps://www.deleidsejazzweek.nl/events/binnenkort-meer-info-s
 oon-more-info-3/
URL:https://www.deleidsejazzweek.nl/events/binnenkort-meer-info-soon-more-info-3/
END:VEVENT
END:VCALENDAR