BEGIN:VCALENDAR
VERSION:2.0
PRODID:-//eventon.com NONSGML v1.0//EN
CALSCALE:GREGORIAN
METHOD:PUBLISH
BEGIN:VEVENT
UID:69e54d2a644b6
DTSTAMP:20260419T214618Z
DTSTART:20250124T193000Z
DTEND:20250124T223000Z
LOCATION:Jantje van Leiden Hartesteeg 2\,  2312 JX Leiden
SUMMARY:44 Shakedown
DESCRIPTION:\nhttps://www.deleidsejazzweek.nl/events/44-shakedown-3/
URL:https://www.deleidsejazzweek.nl/events/44-shakedown-3/
END:VEVENT
END:VCALENDAR