BEGIN:VCALENDAR
VERSION:2.0
PRODID:-//eventon.com NONSGML v1.0//EN
CALSCALE:GREGORIAN
METHOD:PUBLISH
BEGIN:VEVENT
UID:69e737afdaa62
DTSTAMP:20260421T083911Z
DTSTART:20250121T194500Z
DTEND:20250121T220000Z
LOCATION:‘T Praethuys Vrouwenkerkchoorstraat 9\,  2312 WP\,   Leiden
SUMMARY:House of Blues - Jam sessie  met Cedric Glans
DESCRIPTION:\nhttps://www.deleidsejazzweek.nl/events/house-of-blues-jam-ses
 sie-met-cedric-glans/
URL:https://www.deleidsejazzweek.nl/events/house-of-blues-jam-sessie-met-cedric-glans/
END:VEVENT
END:VCALENDAR