BEGIN:VCALENDAR
VERSION:2.0
PRODID:-//eventon.com NONSGML v1.0//EN
CALSCALE:GREGORIAN
METHOD:PUBLISH
BEGIN:VEVENT
UID:69e74a8e2940a
DTSTAMP:20260421T095942Z
DTSTART:20250124T194500Z
DTEND:20250124T220000Z
LOCATION:‘T Praethuys Vrouwenkerkchoorstraat 9\,  2312 WP\,   Leiden
SUMMARY:House of Blues - Eric and the insects
DESCRIPTION:\nhttps://www.deleidsejazzweek.nl/events/house-of-blues-eric-an
 d-the-insects/
URL:https://www.deleidsejazzweek.nl/events/house-of-blues-eric-and-the-insects/
END:VEVENT
END:VCALENDAR