BEGIN:VCALENDAR
VERSION:2.0
PRODID:-//eventon.com NONSGML v1.0//EN
CALSCALE:GREGORIAN
METHOD:PUBLISH
BEGIN:VEVENT
UID:69e751fda0649
DTSTAMP:20260421T103125Z
DTSTART:20250124T193000Z
DTEND:20250124T220000Z
LOCATION:Estaminet Schommelen Lokhorststraat 19\,  2311 TA\,  Leiden
SUMMARY:Calamity Jazz
DESCRIPTION:Calamity&nbsp;Jazz Calamity Jazz is een Leids Jazzkwartet met e
 en&nbsp;lange&nbsp;staat&nbsp;van dienst.&nbsp;Het vaakst te zien in&nbsp;L
 eidse cafés\,  maar&nbsp;op feesten en partijen&nbsp;of&nbsp;tussen de sch
 uifdeuren. Jan Vereecke&nbsp;(gitaar)\,  Arnon Ron (sax) en Michiel Blok (b
 as)&nbsp;zijn vanaf&nbsp;de oerknal&nbsp;betrokken bij&nbsp;het ensemble.&n
 bsp;Zangeres&nbsp;Gökçen&nbsp;Aslan&nbsp;geeft op&nbsp;geweldige&nbsp;wij
 ze invulling aan hetrepertoire.&nbsp;Het&nbsp;repertoire&nbsp;bestaat&nbsp;
 vooral&nbsp;jazzliedjes&nbsp;van de jaren ’20 tot ’60\, &nbsp;ooit&nbsp
 ;gecomponeerd&nbsp;voor&nbsp;musical&nbsp;en film&nbsp;en&nbsp;daarna&nbsp;
 ontwikkeld tot&nbsp;‘jazz&nbsp;standard’. Calamity Jazz speelt deze pra
 chtige[..]\nhttps://www.deleidsejazzweek.nl/events/calamity-jazz-copy/
URL:https://www.deleidsejazzweek.nl/events/calamity-jazz-copy/
END:VEVENT
END:VCALENDAR